BEGIN:VCALENDAR
VERSION:2.0
PRODID:-//wp-events-plugin.com//6.6.4.4//EN
TZID:America/Kentucky/Louisville
X-WR-TIMEZONE:America/Kentucky/Louisville
BEGIN:VEVENT
UID:278@kyhumane.mediauradev.com
DTSTART:20230706T180000Z
DTEND:20230706T190000Z
DTSTAMP:20230630T180652Z
URL:https://kyhumane.mediauradev.com/events/positively-puppies-pups-8-15-w
 eeks-06292023/
SUMMARY:Positively Puppies\, pups 8-15 weeks
DESCRIPTION:*Late Enrollment Available\nClass started 6/29 but you are welc
 ome to join 7/6 (week 2)\n\n6 weeks\nThursdays\, 6:00 - 7:00 pm\n$120 +tax
 \n\nOur in-person group class for puppies age 8-15 weeks old and their han
 dlers to learn the basics in socialization and early foundation skills to 
 start your puppy off right. \n*Puppies should be 8-15 weeks old on the fir
 st day of class.
ATTACH;FMTTYPE=image/jpeg:https://kyhumane.mediauradev.com/wp-content/uplo
 ads/2022/05/puppy-training-e1624303481856.jpg
CATEGORIES:Behavior Training,Positively Puppies
LOCATION:Kentucky Humane Society East Campus\, 1000 Lyndon Lane\, Louisvill
 e\, KY \, 40222\, United States
X-APPLE-STRUCTURED-LOCATION;VALUE=URI;X-ADDRESS=1000 Lyndon Lane\, Louisvil
 le\, KY \, 40222\, United States;X-APPLE-RADIUS=100;X-TITLE=Kentucky Human
 e Society East Campus:geo:0,0
END:VEVENT
END:VCALENDAR