BEGIN:VCALENDAR
VERSION:2.0
PRODID:-//wp-events-plugin.com//6.6.4.4//EN
TZID:America/Kentucky/Louisville
X-WR-TIMEZONE:America/Kentucky/Louisville
BEGIN:VEVENT
UID:333@kyhumane.mediauradev.com
DTSTART:20231111T111500Z
DTEND:20231111T121500Z
DTSTAMP:20231110T223356Z
URL:https://kyhumane.mediauradev.com/events/positively-puppies-pups-8-15-w
 eeks-11042023/
SUMMARY:Positively Puppies\, pups 8-15 weeks
DESCRIPTION:**LATE REGISTRATION AVAILABLE!\nEnroll now to begin week 2 on N
 ovember 11th.\n\n6 weeks\nSaturdays\, 11:15 am - 12:15 pm\n$120 +tax\n\nOu
 r in-person group class for puppies age 8-15 weeks old and their handlers 
 to learn the basics in socialization and early foundation skills to start 
 your puppy off right. \n*Puppies should be 8-15 weeks old on the first day
  of class.
ATTACH;FMTTYPE=image/jpeg:https://kyhumane.mediauradev.com/wp-content/uplo
 ads/2023/07/52770583419_d10496e0e9_o.jpg
CATEGORIES:Behavior Training,Positively Puppies
LOCATION:Kentucky Humane Society East Campus\, 1000 Lyndon Lane\, Louisvill
 e\, KY \, 40222\, United States
X-APPLE-STRUCTURED-LOCATION;VALUE=URI;X-ADDRESS=1000 Lyndon Lane\, Louisvil
 le\, KY \, 40222\, United States;X-APPLE-RADIUS=100;X-TITLE=Kentucky Human
 e Society East Campus:geo:0,0
END:VEVENT
END:VCALENDAR