BEGIN:VCALENDAR
VERSION:2.0
PRODID:-//wp-events-plugin.com//6.6.4.4//EN
TZID:America/Kentucky/Louisville
X-WR-TIMEZONE:America/Kentucky/Louisville
BEGIN:VEVENT
UID:629@kyhumane.mediauradev.com
DTSTART:20260125T151500Z
DTEND:20260301T161500Z
DTSTAMP:20260101T150030Z
URL:https://kyhumane.mediauradev.com/events/positively-puppies-pups-8-15-w
 eeks-15/
SUMMARY:Positively Puppies\, pups 8-15 weeks
DESCRIPTION:6 weeks\nSundays\, 3:15 pm - 4:15 pm\n\nInstructor: Cherie\n$15
 0 +tax\n\nOur in-person group class for puppies age 8-15 weeks old and the
 ir handlers to learn the basics in socialization and early foundation skil
 ls to start your puppy off right. \n*Puppies should be 8-15 weeks old on t
 he first day of class.
ATTACH;FMTTYPE=image/jpeg:https://kyhumane.mediauradev.com/wp-content/uplo
 ads/2023/07/52770583419_d10496e0e9_o.jpg
CATEGORIES:Behavior Training,Positively Puppies
LOCATION:Kentucky Humane Society East Campus\, 1000 Lyndon Lane\, Louisvill
 e\, KY \, 40222\, United States
X-APPLE-STRUCTURED-LOCATION;VALUE=URI;X-ADDRESS=1000 Lyndon Lane\, Louisvil
 le\, KY \, 40222\, United States;X-APPLE-RADIUS=100;X-TITLE=Kentucky Human
 e Society East Campus:geo:0,0
END:VEVENT
END:VCALENDAR