BEGIN:VCALENDAR
VERSION:2.0
PRODID:-//wp-events-plugin.com//6.6.4.4//EN
TZID:America/Kentucky/Louisville
X-WR-TIMEZONE:America/Kentucky/Louisville
BEGIN:VEVENT
UID:447@kyhumane.mediauradev.com
DTSTART:20241022T191500Z
DTEND:20241126T201500Z
DTSTAMP:20241118T132403Z
URL:https://kyhumane.mediauradev.com/events/positively-puppies-pups-8-15-w
 eeks-3/
SUMMARY:Positively Puppies\, pups 8-15 weeks
DESCRIPTION:6 weeks\nTuesdays\, 7:15 pm - 8:15 pm\n\nInstructor: Sue\n$100 
 +tax **LATE SIGN-UP DISCOUNT!!**\n\nOur in-person group class for puppies 
 age 8-15 weeks old and their handlers to learn the basics in socialization
  and early foundation skills to start your puppy off right. \n*Puppies sho
 uld be 8-15 weeks old on the first day of class.
ATTACH;FMTTYPE=image/jpeg:https://kyhumane.mediauradev.com/wp-content/uplo
 ads/2023/11/48694944437_e5f70c4b8a_c.jpg
CATEGORIES:Behavior Training,Positively Puppies
LOCATION:Kentucky Humane Society East Campus\, 1000 Lyndon Lane\, Louisvill
 e\, KY \, 40222\, United States
X-APPLE-STRUCTURED-LOCATION;VALUE=URI;X-ADDRESS=1000 Lyndon Lane\, Louisvil
 le\, KY \, 40222\, United States;X-APPLE-RADIUS=100;X-TITLE=Kentucky Human
 e Society East Campus:geo:0,0
END:VEVENT
END:VCALENDAR