BEGIN:VCALENDAR
VERSION:2.0
PRODID:-//wp-events-plugin.com//6.6.4.4//EN
TZID:America/Kentucky/Louisville
X-WR-TIMEZONE:America/Kentucky/Louisville
BEGIN:VEVENT
UID:480@kyhumane.mediauradev.com
DTSTART:20250115T180000Z
DTEND:20250226T190000Z
DTSTAMP:20250124T014043Z
URL:https://kyhumane.mediauradev.com/events/positively-puppies-pups-8-15-w
 eeks-5/
SUMMARY:Positively Puppies\, pups 8-15 weeks
DESCRIPTION:6 weeks\nWednesdays\, 6:00 pm - 7:00 pm\n\nInstructor: Melissa\
 n\nOur in-person group class for puppies age 8-15 weeks old and their hand
 lers to learn the basics in socialization and early foundation skills to s
 tart your puppy off right. \n*Puppies should be 8-15 weeks old on the firs
 t day of class.
CATEGORIES:Behavior Training,Positively Puppies
LOCATION:Kentucky Humane Society East Campus\, 1000 Lyndon Lane\, Louisvill
 e\, KY \, 40222\, United States
X-APPLE-STRUCTURED-LOCATION;VALUE=URI;X-ADDRESS=1000 Lyndon Lane\, Louisvil
 le\, KY \, 40222\, United States;X-APPLE-RADIUS=100;X-TITLE=Kentucky Human
 e Society East Campus:geo:0,0
END:VEVENT
END:VCALENDAR