BEGIN:VCALENDAR
VERSION:2.0
PRODID:-//wp-events-plugin.com//6.6.4.4//EN
TZID:America/Kentucky/Louisville
X-WR-TIMEZONE:America/Kentucky/Louisville
BEGIN:VEVENT
UID:612@kyhumane.mediauradev.com
DTSTART;TZID=America/Kentucky/Louisville:20260214T100000
DTEND;TZID=America/Kentucky/Louisville:20260214T130000
DTSTAMP:20251118T175108Z
URL:https://kyhumane.mediauradev.com/events/pup-up-adoption-event-13/
SUMMARY:Pup-Up Adoption Event
DESCRIPTION:\n\nJoin us on Saturday\, February 14 at the Middletown Feeders
  Pet Supply for another paw-some PUP-UP ADOPTION EVENT! KHS staff will be
  on-site from 10 a.m. – 1 p.m. with adorable\, adoptable puppies for you
  to snuggle. Who knows? Your four-legged soulmate might be there waiting t
 o meet you!
ATTACH;FMTTYPE=image/jpeg:https://kyhumane.mediauradev.com/wp-content/uplo
 ads/2025/11/Pup-Up-Events-1.jpg
LOCATION:Feeders Pet Supply - Middletown\, 12949 Shelbyville Road\, Louisvi
 lle\, KY\, 40243\, United States
X-APPLE-STRUCTURED-LOCATION;VALUE=URI;X-ADDRESS=12949 Shelbyville Road\, Lo
 uisville\, KY\, 40243\, United States;X-APPLE-RADIUS=100;X-TITLE=Feeders P
 et Supply - Middletown:geo:0,0
END:VEVENT
BEGIN:VTIMEZONE
TZID:America/Kentucky/Louisville
X-LIC-LOCATION:America/Kentucky/Louisville
BEGIN:STANDARD
DTSTART:20251102T010000
TZOFFSETFROM:-0400
TZOFFSETTO:-0500
TZNAME:EST
END:STANDARD
END:VTIMEZONE
END:VCALENDAR