BEGIN:VCALENDAR
VERSION:2.0
PRODID:-//wp-events-plugin.com//6.6.4.4//EN
TZID:America/Kentucky/Louisville
X-WR-TIMEZONE:America/Kentucky/Louisville
BEGIN:VEVENT
UID:364@kyhumane.mediauradev.com
DTSTART;TZID=America/Kentucky/Louisville:20240323T100000
DTEND;TZID=America/Kentucky/Louisville:20240323T140000
DTSTAMP:20240304T150601Z
URL:https://kyhumane.mediauradev.com/events/pup-up-adoption-event-2/
SUMMARY:"Pup-Up" Adoption Event
DESCRIPTION:\nJoin us on March 23 at the Hikes Point Feeders Pet Supply for
  another paw-some PUP-UP ADOPTION EVENT! KHS staff will be on-site from 10
  a.m. - 2 p.m. with adorable\, adoptable puppies for you to snuggle. Who k
 nows? Your four-legged soulmate might be there waiting to meet you!\n\n\n\
 n\n
ATTACH;FMTTYPE=image/jpeg:https://kyhumane.mediauradev.com/wp-content/uplo
 ads/2024/02/PupUpBannerSpring.png
END:VEVENT
BEGIN:VTIMEZONE
TZID:America/Kentucky/Louisville
X-LIC-LOCATION:America/Kentucky/Louisville
BEGIN:DAYLIGHT
DTSTART:20240310T030000
TZOFFSETFROM:-0500
TZOFFSETTO:-0400
TZNAME:EDT
END:DAYLIGHT
END:VTIMEZONE
END:VCALENDAR