BEGIN:VCALENDAR
VERSION:2.0
PRODID:-//wp-events-plugin.com//6.6.4.4//EN
TZID:America/Kentucky/Louisville
X-WR-TIMEZONE:America/Kentucky/Louisville
BEGIN:VEVENT
UID:417@kyhumane.mediauradev.com
DTSTART;TZID=America/Kentucky/Louisville:20240817T100000
DTEND;TZID=America/Kentucky/Louisville:20240817T130000
DTSTAMP:20240619T130230Z
URL:https://kyhumane.mediauradev.com/events/pup-up-adoption-event-4/
SUMMARY:Pup-Up Adoption Event
DESCRIPTION:\n\nJoin us on August 17th at the Hikes Point Feeders Pet Suppl
 y for another paw-some PUP-UP ADOPTION EVENT! KHS staff will be on-site fr
 om 10 a.m. – 1 p.m. with adorable\, adoptable puppies for you to snuggle
 . Who knows? Your four-legged soulmate might be there waiting to meet you!
ATTACH;FMTTYPE=image/jpeg:https://kyhumane.mediauradev.com/wp-content/uplo
 ads/2024/02/PupUpBannerSpring.png
LOCATION:Feeder's Pet Supply - Hike's Point\, 3079 Breckenridge Ln\, Louisv
 ille\, KY\, 40220\, United States
X-APPLE-STRUCTURED-LOCATION;VALUE=URI;X-ADDRESS=3079 Breckenridge Ln\, Loui
 sville\, KY\, 40220\, United States;X-APPLE-RADIUS=100;X-TITLE=Feeder's Pe
 t Supply - Hike's Point:geo:0,0
END:VEVENT
BEGIN:VTIMEZONE
TZID:America/Kentucky/Louisville
X-LIC-LOCATION:America/Kentucky/Louisville
BEGIN:DAYLIGHT
DTSTART:20240310T030000
TZOFFSETFROM:-0500
TZOFFSETTO:-0400
TZNAME:EDT
END:DAYLIGHT
END:VTIMEZONE
END:VCALENDAR