BEGIN:VCALENDAR
VERSION:2.0
PRODID:-//wp-events-plugin.com//6.6.4.4//EN
TZID:America/Kentucky/Louisville
X-WR-TIMEZONE:America/Kentucky/Louisville
BEGIN:VEVENT
UID:441@kyhumane.mediauradev.com
DTSTART;TZID=America/Kentucky/Louisville:20240921T100000
DTEND;TZID=America/Kentucky/Louisville:20240921T130000
DTSTAMP:20240916T205931Z
URL:https://kyhumane.mediauradev.com/events/pup-up-adoption-event-5/
SUMMARY:Pup-Up Adoption Event
DESCRIPTION:\n\nJoin us on September 21st at the Hikes Point Feeders Pet Su
 pply for another paw-some PUP-UP ADOPTION EVENT! KHS staff will be on-sit
 e from 10 a.m. – 1 p.m. with adorable\, adoptable puppies for you to snu
 ggle. Who knows? Your four-legged soulmate might be there waiting to meet 
 you!
ATTACH;FMTTYPE=image/jpeg:https://kyhumane.mediauradev.com/wp-content/uplo
 ads/2024/02/PupUpBannerSpring.png
LOCATION:Feeders Pet Supply - Middletown\, 12949 Shelbyville Road\, Louisvi
 lle\, KY\, 40243\, United States
X-APPLE-STRUCTURED-LOCATION;VALUE=URI;X-ADDRESS=12949 Shelbyville Road\, Lo
 uisville\, KY\, 40243\, United States;X-APPLE-RADIUS=100;X-TITLE=Feeders P
 et Supply - Middletown:geo:0,0
END:VEVENT
BEGIN:VTIMEZONE
TZID:America/Kentucky/Louisville
X-LIC-LOCATION:America/Kentucky/Louisville
BEGIN:DAYLIGHT
DTSTART:20240310T030000
TZOFFSETFROM:-0500
TZOFFSETTO:-0400
TZNAME:EDT
END:DAYLIGHT
END:VTIMEZONE
END:VCALENDAR