BEGIN:VCALENDAR
VERSION:2.0
PRODID:-//wp-events-plugin.com//6.6.4.4//EN
TZID:America/Kentucky/Louisville
X-WR-TIMEZONE:America/Kentucky/Louisville
BEGIN:VEVENT
UID:570@kyhumane.mediauradev.com
DTSTART;TZID=America/Kentucky/Louisville:20250816T100000
DTEND;TZID=America/Kentucky/Louisville:20250816T130000
DTSTAMP:20250812T160926Z
URL:https://kyhumane.mediauradev.com/events/pup-up-adoption-event-9/
SUMMARY:Pup-Up Adoption Event
DESCRIPTION:\n\nJoin us on August 16 at the Middletown Feeders Pet Supply f
 or another paw-some PUP-UP ADOPTION EVENT! KHS staff will be on-site from 
 10 a.m. – 1 p.m. with adorable\, adoptable puppies for you to snuggle. W
 ho knows? Your four-legged soulmate might be there waiting to meet you!
ATTACH;FMTTYPE=image/jpeg:https://kyhumane.mediauradev.com/wp-content/uplo
 ads/2025/08/Pup-Up-Adoption-Event_8-16-25.jpg
LOCATION:Feeders Pet Supply - Middletown\, 12949 Shelbyville Road\, Louisvi
 lle\, KY\, 40243\, United States
X-APPLE-STRUCTURED-LOCATION;VALUE=URI;X-ADDRESS=12949 Shelbyville Road\, Lo
 uisville\, KY\, 40243\, United States;X-APPLE-RADIUS=100;X-TITLE=Feeders P
 et Supply - Middletown:geo:0,0
END:VEVENT
BEGIN:VTIMEZONE
TZID:America/Kentucky/Louisville
X-LIC-LOCATION:America/Kentucky/Louisville
BEGIN:DAYLIGHT
DTSTART:20250309T030000
TZOFFSETFROM:-0500
TZOFFSETTO:-0400
TZNAME:EDT
END:DAYLIGHT
END:VTIMEZONE
END:VCALENDAR