BEGIN:VCALENDAR
VERSION:2.0
PRODID:-//wp-events-plugin.com//6.6.4.4//EN
TZID:America/Kentucky/Louisville
X-WR-TIMEZONE:America/Kentucky/Louisville
BEGIN:VEVENT
UID:632@kyhumane.mediauradev.com
DTSTART;TZID=America/Kentucky/Louisville:20260208T130000
DTEND;TZID=America/Kentucky/Louisville:20260208T160000
DTSTAMP:20260113T163226Z
URL:https://kyhumane.mediauradev.com/events/puppy-bowl-viewing-party-2/
SUMMARY:Puppy Bowl Viewing Party
DESCRIPTION:\n\n\n\nKHS is making our second appearance in Animal Planet's 
 #PuppyBowl this year\, and we want YOU to celebrate with us!\n\n\n\nJoin 
 us on Sunday\, February 8 from 1-4 p.m. at PG&amp\;J's Dog Park Bar for a 
 Puppy Bowl Viewing Party! We're pulling out ALL the stops - FREE pizza\, t
 hanks to our friends at DiOrio's Pizza &amp\; Pub\, specialty drinks\, a h
 alftime game with fun prizes AND limited-edition #TeamKHS merch. It's goin
 g to be a paw-some day full of puppy love\, and we hope you'll join us to 
 celebrate Wynonna and Showgirl's massive achievements!\n\n\n\n**Please not
 e:- Humans must be 21+ to attend- Dogs must be spayed/neutered and vaccina
 ted\, and vaccine records must be submitted before their visit.- Admission
  is free for humans\; dog admission varies based on package purchased (day
  pass\, month pass\, etc.)\nHave questions about how to bring your dog alo
 ng for this fun-filled afternoon? Visit https://www.pgjdogbar.com/plan-yo
 ur-visit for more information.
ATTACH;FMTTYPE=image/jpeg:https://kyhumane.mediauradev.com/wp-content/uplo
 ads/2026/01/TEAM-KHS_Facebook-Event-viewing-party-Image_1200x628_2026-scal
 ed.jpg
LOCATION:PG&J's Dog Park Bar\, 800 Baxter Avenue\, Louisville\, KY\, 40204\
 , United States
X-APPLE-STRUCTURED-LOCATION;VALUE=URI;X-ADDRESS=800 Baxter Avenue\, Louisvi
 lle\, KY\, 40204\, United States;X-APPLE-RADIUS=100;X-TITLE=PG&J's Dog Par
 k Bar:geo:0,0
END:VEVENT
BEGIN:VTIMEZONE
TZID:America/Kentucky/Louisville
X-LIC-LOCATION:America/Kentucky/Louisville
BEGIN:STANDARD
DTSTART:20251102T010000
TZOFFSETFROM:-0400
TZOFFSETTO:-0500
TZNAME:EST
END:STANDARD
END:VTIMEZONE
END:VCALENDAR