BEGIN:VCALENDAR
VERSION:2.0
PRODID:-//wp-events-plugin.com//6.6.4.4//EN
TZID:America/Kentucky/Louisville
X-WR-TIMEZONE:America/Kentucky/Louisville
BEGIN:VEVENT
UID:492@kyhumane.mediauradev.com
DTSTART;TZID=America/Kentucky/Louisville:20250209T130000
DTEND;TZID=America/Kentucky/Louisville:20250209T160000
DTSTAMP:20250121T174555Z
URL:https://kyhumane.mediauradev.com/events/puppy-bowl-viewing-party/
SUMMARY:Puppy Bowl Viewing Party
DESCRIPTION:\n\nKHS is making our FIRST EVER appearance in Animal Planet's
  #PuppyBowl this year\, and we want YOU to celebrate with us!\n\nJoin us
  on Sunday\, February 9 from 1-4 p.m. at PG&amp\;J's Dog Park Bar for a Pu
 ppy Bowl Viewing Party! We're pulling out ALL the stops - FREE pizza\, tha
 nks to our friends at DiOrio's Pizza &amp\; Pub\, specialty drinks\, a hal
 ftime game with fun prizes AND limited-edition #TeamKHS merch. It's goin
 g to be a paw-some day full of puppy love\, and we hope you'll join us to 
 celebrate Colonel and Julep's massive achievements!\n\n**Please note:- Hum
 ans must be 21+ to attend- Dogs must be spayed/neutered and vaccinated\, a
 nd vaccine records must be submitted before their visit.- Admission is fre
 e for humans\; dog admission varies based on package purchased (day pass\,
  month pass\, etc.)\nHave questions about how to bring your dog along for 
 this fun-filled afternoon? Visit https://www.pgjdogbar.com/plan-your-visi
 t for more information.
ATTACH;FMTTYPE=image/jpeg:https://kyhumane.mediauradev.com/wp-content/uplo
 ads/2025/01/Puppy-Bowl-Viewing-Party-Cover-Photo.jpg
LOCATION:PG&J's Dog Park Bar\, 800 Baxter Avenue\, Louisville\, KY\, 40204\
 , United States
X-APPLE-STRUCTURED-LOCATION;VALUE=URI;X-ADDRESS=800 Baxter Avenue\, Louisvi
 lle\, KY\, 40204\, United States;X-APPLE-RADIUS=100;X-TITLE=PG&J's Dog Par
 k Bar:geo:0,0
END:VEVENT
BEGIN:VTIMEZONE
TZID:America/Kentucky/Louisville
X-LIC-LOCATION:America/Kentucky/Louisville
BEGIN:STANDARD
DTSTART:20241103T010000
TZOFFSETFROM:-0400
TZOFFSETTO:-0500
TZNAME:EST
END:STANDARD
END:VTIMEZONE
END:VCALENDAR