BEGIN:VCALENDAR
VERSION:2.0
PRODID:-//wp-events-plugin.com//6.6.4.4//EN
TZID:America/Kentucky/Louisville
X-WR-TIMEZONE:America/Kentucky/Louisville
BEGIN:VEVENT
UID:503@kyhumane.mediauradev.com
DTSTART;TZID=America/Kentucky/Louisville:20250419T110000
DTEND;TZID=America/Kentucky/Louisville:20250419T140000
DTSTAMP:20250324T124827Z
URL:https://kyhumane.mediauradev.com/events/puppy-palooza-3/
SUMMARY:Puppy Palooza
DESCRIPTION:\n\n\n\nWestport Village is excited to announce the return of o
 ur {paws}itively fun and family-friendly event that supports the Kentucky 
 Humane Society! Join us at Puppy Palooza on April 19th from 11am-2pm. The 
 event will once again include live music\, more than 35 dog-friendly vendo
 rs\, activities\, photo ops and more!\n\nLearn more: https://www.westportv
 illage.com/event/puppy-palooza-application-3/\n\n\n
ATTACH;FMTTYPE=image/jpeg:https://kyhumane.mediauradev.com/wp-content/uplo
 ads/2025/03/FB-EVENT-puppy-palooza-1.png
LOCATION:Westport Village\, 1315 Herr Lane\, Louisville\, KY\, 40222\, Unit
 ed States
X-APPLE-STRUCTURED-LOCATION;VALUE=URI;X-ADDRESS=1315 Herr Lane\, Louisville
 \, KY\, 40222\, United States;X-APPLE-RADIUS=100;X-TITLE=Westport Village:
 geo:0,0
END:VEVENT
BEGIN:VTIMEZONE
TZID:America/Kentucky/Louisville
X-LIC-LOCATION:America/Kentucky/Louisville
BEGIN:DAYLIGHT
DTSTART:20250309T030000
TZOFFSETFROM:-0500
TZOFFSETTO:-0400
TZNAME:EDT
END:DAYLIGHT
END:VTIMEZONE
END:VCALENDAR