BEGIN:VCALENDAR
VERSION:2.0
PRODID:-//wp-events-plugin.com//6.6.4.4//EN
TZID:America/Kentucky/Louisville
X-WR-TIMEZONE:America/Kentucky/Louisville
BEGIN:VEVENT
UID:115@kyhumane.mediauradev.com
DTSTART;TZID=America/Kentucky/Louisville:20220416T110000
DTEND;TZID=America/Kentucky/Louisville:20220416T140000
DTSTAMP:20220222T192733Z
URL:https://kyhumane.mediauradev.com/events/puppy-palooza/
SUMMARY:Puppy Palooza!
DESCRIPTION:The annual Puppy Palooza event is back this April courtesy of o
 ur amazing friends at Westport Village! 
ATTACH;FMTTYPE=image/jpeg:https://kyhumane.mediauradev.com/wp-content/uplo
 ads/2022/02/177993457_10159045214185853_4777556680029596957_n.jpg
END:VEVENT
BEGIN:VTIMEZONE
TZID:America/Kentucky/Louisville
X-LIC-LOCATION:America/Kentucky/Louisville
BEGIN:DAYLIGHT
DTSTART:20220313T030000
TZOFFSETFROM:-0500
TZOFFSETTO:-0400
TZNAME:EDT
END:DAYLIGHT
END:VTIMEZONE
END:VCALENDAR