BEGIN:VCALENDAR
VERSION:2.0
PRODID:-//wp-events-plugin.com//6.6.4.4//EN
TZID:America/Kentucky/Louisville
X-WR-TIMEZONE:America/Kentucky/Louisville
BEGIN:VEVENT
UID:624@kyhumane.mediauradev.com
DTSTART:20260117T121500Z
DTEND:20260131T130000Z
DTSTAMP:20251210T162710Z
URL:https://kyhumane.mediauradev.com/events/puppy-play-group-puppies-8-15-
 weeks/
SUMMARY:Puppy Play Group\, puppies 8-15 weeks
DESCRIPTION:3 weeks\nSaturdays\, 12:15 pm - 1:00 pm\n\nInstructor: Jordan\n
 $75 +tax\n\nThis playgroup for puppies 8-15 weeks focuses on socialization
 \, learning to make friends\, and confidence building to help your puppy g
 row into a well-adjusted adult.\n*Puppies should be 8-15 weeks old on the 
 first day of class. 
ATTACH;FMTTYPE=image/jpeg:https://kyhumane.mediauradev.com/wp-content/uplo
 ads/2023/11/52731211006_47756110d2_o-e1756475209531.jpg
CATEGORIES:Behavior Training,Positively Puppies
LOCATION:Kentucky Humane Society East Campus\, 1000 Lyndon Lane\, Louisvill
 e\, KY \, 40222\, United States
X-APPLE-STRUCTURED-LOCATION;VALUE=URI;X-ADDRESS=1000 Lyndon Lane\, Louisvil
 le\, KY \, 40222\, United States;X-APPLE-RADIUS=100;X-TITLE=Kentucky Human
 e Society East Campus:geo:0,0
END:VEVENT
END:VCALENDAR