BEGIN:VCALENDAR
VERSION:2.0
PRODID:-//wp-events-plugin.com//6.6.4.4//EN
TZID:America/Kentucky/Louisville
X-WR-TIMEZONE:America/Kentucky/Louisville
BEGIN:VEVENT
UID:40@kyhumane.mediauradev.com
DTSTART:20210622T180000Z
DTEND:20210706T184500Z
DTSTAMP:20220617T143122Z
URL:https://kyhumane.mediauradev.com/events/puppy-social-age-8-15-weeks-in
 structor-katy-length-3-weeks-cost-75-00-2/
SUMMARY:Puppy Social\, age 8-15 weeks. Instructor: Katy. Length: 3 weeks. C
 ost: $75.00
DESCRIPTION:This playgroup is for puppies aged 8-15 weeks. Raise your puppy
  right!\nCategories: Behavior Training\, Positively Puppies
ATTACH;FMTTYPE=image/jpeg:https://kyhumane.mediauradev.com/wp-content/uplo
 ads/2021/05/fc35a228883271a2bfbfa7f82689a346.jpg.jpg
CATEGORIES:Behavior Training,Positively Puppies
LOCATION:Kentucky Humane Society Behavior Retreat\, 5007 Max Ridge Court\, 
 Louisville\, KY\, 40299\, United States
X-APPLE-STRUCTURED-LOCATION;VALUE=URI;X-ADDRESS=5007 Max Ridge Court\, Loui
 sville\, KY\, 40299\, United States;X-APPLE-RADIUS=100;X-TITLE=Kentucky Hu
 mane Society Behavior Retreat:geo:0,0
END:VEVENT
END:VCALENDAR