BEGIN:VCALENDAR
VERSION:2.0
PRODID:-//wp-events-plugin.com//6.6.4.4//EN
TZID:America/Kentucky/Louisville
X-WR-TIMEZONE:America/Kentucky/Louisville
BEGIN:VEVENT
UID:19@kyhumane.mediauradev.com
DTSTART:20210612T100000Z
DTEND:20210612T104500Z
DTSTAMP:20220617T142705Z
URL:https://kyhumane.mediauradev.com/events/puppy-social-age-8-15-weeks-in
 structor-sue-length-3-weeks-cost-75-00/
SUMMARY:Puppy Social\, age 8-15 weeks. Instructor: Sue. Length: 3 weeks. Co
 st: $75.00
DESCRIPTION:This playgroup is for puppies aged 8-15 weeks. Raise your puppy
  right!
ATTACH;FMTTYPE=image/jpeg:https://kyhumane.mediauradev.com/wp-content/uplo
 ads/2021/05/fc35a228883271a2bfbfa7f82689a346.jpg.jpg
CATEGORIES:Behavior Training,Positively Puppies
LOCATION:Kentucky Humane Society Sam Swope Behavior Retreat\, 5007 Max Ridg
 e Ct.\, Louisville\, KY 40299\, Louisville\, Ky\, 40299\, United States
X-APPLE-STRUCTURED-LOCATION;VALUE=URI;X-ADDRESS=5007 Max Ridge Ct.\, Louisv
 ille\, KY 40299\, Louisville\, Ky\, 40299\, United States;X-APPLE-RADIUS=1
 00;X-TITLE=Kentucky Humane Society Sam Swope Behavior Retreat:geo:0,0
END:VEVENT
END:VCALENDAR