BEGIN:VCALENDAR
VERSION:2.0
PRODID:-//wp-events-plugin.com//6.6.4.4//EN
TZID:America/Kentucky/Louisville
X-WR-TIMEZONE:America/Kentucky/Louisville
BEGIN:VEVENT
UID:219@kyhumane.mediauradev.com
DTSTART:20230123T180000Z
DTEND:20230123T184500Z
DTSTAMP:20230123T151734Z
URL:https://kyhumane.mediauradev.com/events/puppy-social-puppies-8-15-week
 s-01232023/
SUMMARY:Puppy Social\, puppies 8-15 weeks
DESCRIPTION:3 weeks\nMondays\, 6:00 pm - 6:45 pm\n$75 +tax\n\nThis playgrou
 p for puppies 8-15 weeks focuses on socialization\, learning to make frien
 ds\, and confidence building to help your puppy grow into a well-adjusted 
 adult.\n*Puppies should be 8-15 weeks old on the first day of class. 
ATTACH;FMTTYPE=image/jpeg:https://kyhumane.mediauradev.com/wp-content/uplo
 ads/2021/06/1.jpg
CATEGORIES:Behavior Training,Positively Puppies
LOCATION:Kentucky Humane Society East Campus\, 1000 Lyndon Lane\, Louisvill
 e\, KY \, 40222\, United States
X-APPLE-STRUCTURED-LOCATION;VALUE=URI;X-ADDRESS=1000 Lyndon Lane\, Louisvil
 le\, KY \, 40222\, United States;X-APPLE-RADIUS=100;X-TITLE=Kentucky Human
 e Society East Campus:geo:0,0
END:VEVENT
END:VCALENDAR