BEGIN:VCALENDAR
VERSION:2.0
PRODID:-//wp-events-plugin.com//6.6.4.4//EN
TZID:America/Kentucky/Louisville
X-WR-TIMEZONE:America/Kentucky/Louisville
BEGIN:VEVENT
UID:355@kyhumane.mediauradev.com
DTSTART:20240204T140000Z
DTEND:20240204T144500Z
DTSTAMP:20240130T180433Z
URL:https://kyhumane.mediauradev.com/events/puppy-social-puppies-8-15-week
 s-02042024/
SUMMARY:Puppy Social\, puppies 8-15 weeks
DESCRIPTION:3 weeks\nSundays\, 2:00 - 2:45 pm\n$75 +tax\n\nThis playgroup f
 or puppies 8-15 weeks focuses on socialization\, learning to make friends\
 , and confidence building to help your puppy grow into a well-adjusted adu
 lt.\n*Puppies should be 8-15 weeks old on the first day of class. 
CATEGORIES:Behavior Training,Positively Puppies
LOCATION:Sam Swope Pet TLC (Main Campus)\, 241 Steedly Dr\, Louisville\, KY
 \, 40214\, United States
X-APPLE-STRUCTURED-LOCATION;VALUE=URI;X-ADDRESS=241 Steedly Dr\, Louisville
 \, KY\, 40214\, United States;X-APPLE-RADIUS=100;X-TITLE=Sam Swope Pet TLC
  (Main Campus):geo:0,0
END:VEVENT
END:VCALENDAR