BEGIN:VCALENDAR
VERSION:2.0
PRODID:-//wp-events-plugin.com//6.6.4.4//EN
TZID:America/Kentucky/Louisville
X-WR-TIMEZONE:America/Kentucky/Louisville
BEGIN:VEVENT
UID:380@kyhumane.mediauradev.com
DTSTART:20240519T151500Z
DTEND:20240519T160000Z
DTSTAMP:20240513T180356Z
URL:https://kyhumane.mediauradev.com/events/puppy-social-puppies-8-15-week
 s-05122024/
SUMMARY:Puppy Social\, puppies 8-15 weeks
DESCRIPTION:2 weeks\nSundays\, 3:15 - 4:00 pm\nInstructor: Cherie\n$50 +tax
 \n\nThis playgroup for puppies 8-15 weeks focuses on socialization\, learn
 ing to make friends\, and confidence building to help your puppy grow into
  a well-adjusted adult.\n*Puppies should be 8-15 weeks old on the first da
 y of class. 
ATTACH;FMTTYPE=image/jpeg:https://kyhumane.mediauradev.com/wp-content/uplo
 ads/2023/11/46360879811_114d0a66f0_c.jpg
CATEGORIES:Behavior Training,Positively Puppies
LOCATION:Kentucky Humane Society East Campus\, 1000 Lyndon Lane\, Louisvill
 e\, KY \, 40222\, United States
X-APPLE-STRUCTURED-LOCATION;VALUE=URI;X-ADDRESS=1000 Lyndon Lane\, Louisvil
 le\, KY \, 40222\, United States;X-APPLE-RADIUS=100;X-TITLE=Kentucky Human
 e Society East Campus:geo:0,0
END:VEVENT
END:VCALENDAR