BEGIN:VCALENDAR
VERSION:2.0
PRODID:-//wp-events-plugin.com//6.6.4.4//EN
TZID:America/Kentucky/Louisville
X-WR-TIMEZONE:America/Kentucky/Louisville
BEGIN:VEVENT
UID:408@kyhumane.mediauradev.com
DTSTART:20241201T140000Z
DTEND:20241215T144500Z
DTSTAMP:20241204T184220Z
URL:https://kyhumane.mediauradev.com/events/puppy-social-puppies-8-15-week
 s-07102024/
SUMMARY:Puppy Social\, puppies 8-15 weeks
DESCRIPTION:3 weeks\nSundays\, 2:00 pm - 2:45 pm\nInstructor: Cherie\n$75 +
 tax\n\nThis playgroup for puppies 8-15 weeks focuses on socialization\, le
 arning to make friends\, and confidence building to help your puppy grow i
 nto a well-adjusted adult.\n*Puppies should be 8-15 weeks old on the first
  day of class. 
ATTACH;FMTTYPE=image/jpeg:https://kyhumane.mediauradev.com/wp-content/uplo
 ads/2023/11/46360879811_114d0a66f0_c.jpg
CATEGORIES:Behavior Training,Positively Puppies
LOCATION:Kentucky Humane Society East Campus\, 1000 Lyndon Lane\, Louisvill
 e\, KY \, 40222\, United States
X-APPLE-STRUCTURED-LOCATION;VALUE=URI;X-ADDRESS=1000 Lyndon Lane\, Louisvil
 le\, KY \, 40222\, United States;X-APPLE-RADIUS=100;X-TITLE=Kentucky Human
 e Society East Campus:geo:0,0
END:VEVENT
END:VCALENDAR