BEGIN:VCALENDAR
VERSION:2.0
PRODID:-//wp-events-plugin.com//6.6.4.4//EN
TZID:America/Kentucky/Louisville
X-WR-TIMEZONE:America/Kentucky/Louisville
BEGIN:VEVENT
UID:291@kyhumane.mediauradev.com
DTSTART:20230807T191500Z
DTEND:20230807T200000Z
DTSTAMP:20230807T205248Z
URL:https://kyhumane.mediauradev.com/events/puppy-social-puppies-8-15-week
 s-08072023/
SUMMARY:Puppy Social\, puppies 8-15 weeks
DESCRIPTION:3 weeks\nMondays\, 7:15 - 8:00 pm\n$75 +tax\n\nThis playgroup f
 or puppies 8-15 weeks focuses on socialization\, learning to make friends\
 , and confidence building to help your puppy grow into a well-adjusted adu
 lt.\n*Puppies should be 8-15 weeks old on the first day of class. 
ATTACH;FMTTYPE=image/jpeg:https://kyhumane.mediauradev.com/wp-content/uplo
 ads/2023/07/52858535679_5c88f7fa8c_o.jpg
CATEGORIES:Behavior Training,Positively Puppies
LOCATION:Kentucky Humane Society East Campus\, 1000 Lyndon Lane\, Louisvill
 e\, KY \, 40222\, United States
X-APPLE-STRUCTURED-LOCATION;VALUE=URI;X-ADDRESS=1000 Lyndon Lane\, Louisvil
 le\, KY \, 40222\, United States;X-APPLE-RADIUS=100;X-TITLE=Kentucky Human
 e Society East Campus:geo:0,0
END:VEVENT
END:VCALENDAR