BEGIN:VCALENDAR
VERSION:2.0
PRODID:-//wp-events-plugin.com//6.6.4.4//EN
TZID:America/Kentucky/Louisville
X-WR-TIMEZONE:America/Kentucky/Louisville
BEGIN:VEVENT
UID:535@kyhumane.mediauradev.com
DTSTART:20250628T151500Z
DTEND:20250712T160000Z
DTSTAMP:20250603T174945Z
URL:https://kyhumane.mediauradev.com/events/puppy-social-puppies-8-15-week
 s-2/
SUMMARY:Puppy Social\, puppies 8-15 weeks
DESCRIPTION:3 weeks\nSaturdays\, 3:15 pm - 4:00 pm\n\nInstructor: Cherie\n$
 75 +tax\n\nThis playgroup for puppies 8-15 weeks focuses on socialization\
 , learning to make friends\, and confidence building to help your puppy gr
 ow into a well-adjusted adult.\n*Puppies should be 8-15 weeks old on the f
 irst day of class. 
ATTACH;FMTTYPE=image/jpeg:https://kyhumane.mediauradev.com/wp-content/uplo
 ads/2023/11/48694944437_e5f70c4b8a_c.jpg
CATEGORIES:Behavior Training,Positively Puppies
LOCATION:Kentucky Humane Society East Campus\, 1000 Lyndon Lane\, Louisvill
 e\, KY \, 40222\, United States
X-APPLE-STRUCTURED-LOCATION;VALUE=URI;X-ADDRESS=1000 Lyndon Lane\, Louisvil
 le\, KY \, 40222\, United States;X-APPLE-RADIUS=100;X-TITLE=Kentucky Human
 e Society East Campus:geo:0,0
END:VEVENT
END:VCALENDAR