BEGIN:VCALENDAR
VERSION:2.0
PRODID:-//wp-events-plugin.com//6.6.4.4//EN
TZID:America/Kentucky/Louisville
X-WR-TIMEZONE:America/Kentucky/Louisville
BEGIN:VEVENT
UID:463@kyhumane.mediauradev.com
DTSTART;TZID=America/Kentucky/Louisville:20241020T110000
DTEND;TZID=America/Kentucky/Louisville:20241020T160000
DTSTAMP:20241017T192736Z
URL:https://kyhumane.mediauradev.com/events/pups-and-pumpkins/
SUMMARY:Pups and Pumpkins
DESCRIPTION:Pups &amp\; Pumpkins Celebration is BACK!\n\n\n\nJoin us for a 
 tail-wagging\, dog-friendly brunch you and your pups will love!\n Ky Huma
 ne Society: Meet adorable puppies for adoption\nDoggie Delights: Special d
 og menu + tasty bites for humans!\nCostume Contest: Dress your pups in the
 ir spookiest\, cutest\, or funniest costumes!\n1st Place: $50 PetSmart gif
 t card\, $25 WOB gift card\, and dog swag.2nd &amp\; 3rd Place: $25 WOB gi
 ft cards and dog swag. Judging at 2pm.\nTito’s Booth: Swag\, samplings\,
  and treats!\nPup Photo Station: Capture fun memories!\nJoin us for a paw-
 some day of fun!
ATTACH;FMTTYPE=image/jpeg:https://kyhumane.mediauradev.com/wp-content/uplo
 ads/2024/10/World-of-Beer-Pups-and-Pumpkins-2024.jpg
LOCATION:World of Beer\, 9850 Von Allmen Court St. 108\, Louisville\, KY\, 
 40241\, United States
X-APPLE-STRUCTURED-LOCATION;VALUE=URI;X-ADDRESS=9850 Von Allmen Court St. 1
 08\, Louisville\, KY\, 40241\, United States;X-APPLE-RADIUS=100;X-TITLE=Wo
 rld of Beer:geo:0,0
END:VEVENT
BEGIN:VTIMEZONE
TZID:America/Kentucky/Louisville
X-LIC-LOCATION:America/Kentucky/Louisville
BEGIN:DAYLIGHT
DTSTART:20240310T030000
TZOFFSETFROM:-0500
TZOFFSETTO:-0400
TZNAME:EDT
END:DAYLIGHT
END:VTIMEZONE
END:VCALENDAR