BEGIN:VCALENDAR
VERSION:2.0
PRODID:-//wp-events-plugin.com//6.6.4.4//EN
TZID:America/Kentucky/Louisville
X-WR-TIMEZONE:America/Kentucky/Louisville
BEGIN:VEVENT
UID:259@kyhumane.mediauradev.com
DTSTART;TZID=America/Kentucky/Louisville:20230513T183000
DTEND;TZID=America/Kentucky/Louisville:20230513T213000
DTSTAMP:20230511T094055Z
URL:https://kyhumane.mediauradev.com/events/pups-at-the-pitch-3/
SUMMARY:Pups at the Pitch
DESCRIPTION:\n\n\n\n\nJoin us at Lynn Family Stadium May 13\n\n\n\nKHS is e
 xcited to partner with Louisville City Football Club to bring you Pups at 
 the Pitch\, presented by Feeders Pet Supply! Join us on May 13 at Lynn Fam
 ily Stadium for a tail-waggin' good time watching Lou City's match against
  Miami FC. Gates open at 6:30 p.m. before kickoff at 7:30 p.m. Tickets for
  fans wishing to bring their dogs are on sale now\, and a portion of all f
 unds will be donated to the Kentucky Humane Society! The first 500 fans en
 tering through Gate 4 will also receive a Feeders Supply collapsible water
  bowl! Don't wait - get your tickets today!\n\n\n\n\nGet Your Tickets Toda
 y\n\n\n\n\n\n\n\n\nDawne Gee Pet Food Drive!\n\n\n\nLouisville’s profess
 ional soccer clubs are teaming up with prominent news anchor Dawne Gee and
  her 501(c)(3) nonprofit\, “A Recipe to End Hunger\,” for a pet food d
 rive surrounding two upcoming games. Fans are encouraged to drop donations
  to Gate 4 on their way into Lynn Family Stadium starting Saturday. Louisv
 ille City FC hosts Miami FC on “Pups at the Pitch” night\, which permi
 ts ticket holders to bring their furry friends to the game.\n\n\n\nThe pet
  food drive will run through Racing Louisville FC’s Pups at the Pitch ga
 me on June 14. Outside of game day\, the public can also deliver donations
  to the Lynn Family Stadium team store open from 10 a.m.-6 p.m. Monday thr
 ough Saturday.\n\n\n\nFor more information and guidelines about the night\
 , please visit&nbsp\;https://www.loucity.com/pups/.\n
ATTACH;FMTTYPE=image/jpeg:https://kyhumane.mediauradev.com/wp-content/uplo
 ads/2023/04/Louisville-City-FC-Logo.png
LOCATION:Lynn Family Stadium\, 350 Adams St.\, Louisville\, KY\, 40206\, Un
 ited States
X-APPLE-STRUCTURED-LOCATION;VALUE=URI;X-ADDRESS=350 Adams St.\, Louisville\
 , KY\, 40206\, United States;X-APPLE-RADIUS=100;X-TITLE=Lynn Family Stadiu
 m:geo:0,0
END:VEVENT
BEGIN:VTIMEZONE
TZID:America/Kentucky/Louisville
X-LIC-LOCATION:America/Kentucky/Louisville
BEGIN:DAYLIGHT
DTSTART:20230312T030000
TZOFFSETFROM:-0500
TZOFFSETTO:-0400
TZNAME:EDT
END:DAYLIGHT
END:VTIMEZONE
END:VCALENDAR