BEGIN:VCALENDAR
VERSION:2.0
PRODID:-//wp-events-plugin.com//6.6.4.4//EN
TZID:America/Kentucky/Louisville
X-WR-TIMEZONE:America/Kentucky/Louisville
BEGIN:VEVENT
UID:260@kyhumane.mediauradev.com
DTSTART;TZID=America/Kentucky/Louisville:20230614T190000
DTEND;TZID=America/Kentucky/Louisville:20230614T210000
DTSTAMP:20230612T201941Z
URL:https://kyhumane.mediauradev.com/events/pups-at-the-pitch-4/
SUMMARY:Pups at the Pitch
DESCRIPTION:\n\n\n\n\nKHS and Racing Louisville Football Club are excited t
 o host a Pups at the Pitch game on Wednesday\, June 14! Join us at Lynn Fa
 mily Stadium to see as Racing Louisville FC hosts the Houston Dash. Gates 
 open at 7 p.m. before kickoff at 8 p.m. Tickets for fans wishing to bring 
 their dogs are now on sale\, and a portion of all funds will be donated to
  the Kentucky Humane Society! In addition\, Flew The Coop&nbsp\;— a char
 itable initiative founded by Racing board member Chris Harding — will ma
 tch donations from ticket sales to help even more animals. It's sure to be
  a tail-waggin' good time\, so get your tickets now!\n\n\n\nFor more infor
 mation and guidelines for Pups at the Pitch\, visit www.racingloufc.com/pu
 ps.\n\n\n\n\nGet Your Tickets\n\n\n\n\n\n
ATTACH;FMTTYPE=image/jpeg:https://kyhumane.mediauradev.com/wp-content/uplo
 ads/2023/04/Racing-Louisville-Football-Club.png
LOCATION:Lynn Family Stadium\, 350 Adams St.\, Louisville\, KY\, 40206\, Un
 ited States
X-APPLE-STRUCTURED-LOCATION;VALUE=URI;X-ADDRESS=350 Adams St.\, Louisville\
 , KY\, 40206\, United States;X-APPLE-RADIUS=100;X-TITLE=Lynn Family Stadiu
 m:geo:0,0
END:VEVENT
BEGIN:VTIMEZONE
TZID:America/Kentucky/Louisville
X-LIC-LOCATION:America/Kentucky/Louisville
BEGIN:DAYLIGHT
DTSTART:20230312T030000
TZOFFSETFROM:-0500
TZOFFSETTO:-0400
TZNAME:EDT
END:DAYLIGHT
END:VTIMEZONE
END:VCALENDAR