BEGIN:VCALENDAR
VERSION:2.0
PRODID:-//wp-events-plugin.com//6.6.4.4//EN
TZID:America/Kentucky/Louisville
X-WR-TIMEZONE:America/Kentucky/Louisville
BEGIN:VEVENT
UID:520@kyhumane.mediauradev.com
DTSTART;TZID=America/Kentucky/Louisville:20250510T183000
DTEND;TZID=America/Kentucky/Louisville:20250510T220000
DTSTAMP:20250411T203029Z
URL:https://kyhumane.mediauradev.com/events/pups-at-the-pitch-6/
SUMMARY:Pups at the Pitch
DESCRIPTION:\nLouisville City FC and KHS are excited to join forces again f
 or Pups at the Pitch\, presented by Feeders Pet Supply! Leash up your cani
 ne bestie and join us on Saturday\, May 10 to cheer on Lou City as they ta
 ke on the Pittsburgh Riverhounds!. Gates open at 6:30 p.m. with kickoff at
  7:30 p.m.!\n\n\n\n\n\n\n\nTickets are on sale now\, and proceeds benefit 
 the shelter animals of KHS as they search for forever homes. Get your tick
 ets by visiting loucity.com/pups\n
ATTACH;FMTTYPE=image/jpeg:https://kyhumane.mediauradev.com/wp-content/uplo
 ads/2024/07/Pups-at-Pitch-RL-2.jpg
LOCATION:Lynn Family Stadium\, 350 Adams St.\, Louisville\, KY\, 40206\, Un
 ited States
X-APPLE-STRUCTURED-LOCATION;VALUE=URI;X-ADDRESS=350 Adams St.\, Louisville\
 , KY\, 40206\, United States;X-APPLE-RADIUS=100;X-TITLE=Lynn Family Stadiu
 m:geo:0,0
END:VEVENT
BEGIN:VTIMEZONE
TZID:America/Kentucky/Louisville
X-LIC-LOCATION:America/Kentucky/Louisville
BEGIN:DAYLIGHT
DTSTART:20250309T030000
TZOFFSETFROM:-0500
TZOFFSETTO:-0400
TZNAME:EDT
END:DAYLIGHT
END:VTIMEZONE
END:VCALENDAR