BEGIN:VCALENDAR
VERSION:2.0
PRODID:-//wp-events-plugin.com//6.6.4.4//EN
TZID:America/Kentucky/Louisville
X-WR-TIMEZONE:America/Kentucky/Louisville
BEGIN:VEVENT
UID:144@kyhumane.mediauradev.com
DTSTART;TZID=America/Kentucky/Louisville:20220430T183000
DTEND;TZID=America/Kentucky/Louisville:20220430T210000
DTSTAMP:20220412T212409Z
URL:https://kyhumane.mediauradev.com/events/pups-at-the-pitch/
SUMMARY:Pups at the Pitch!
DESCRIPTION:Louisville City FC is hosting their inaugural Pups at the Pitch
  presented by Feeders Pet Supply at Lynn Family Stadium. 
ATTACH;FMTTYPE=image/jpeg:https://kyhumane.mediauradev.com/wp-content/uplo
 ads/2022/04/51995100656_c36f97948d_k.jpg
END:VEVENT
BEGIN:VTIMEZONE
TZID:America/Kentucky/Louisville
X-LIC-LOCATION:America/Kentucky/Louisville
BEGIN:DAYLIGHT
DTSTART:20220313T030000
TZOFFSETFROM:-0500
TZOFFSETTO:-0400
TZNAME:EDT
END:DAYLIGHT
END:VTIMEZONE
END:VCALENDAR