BEGIN:VCALENDAR
VERSION:2.0
PRODID:-//wp-events-plugin.com//6.6.4.4//EN
TZID:America/Kentucky/Louisville
X-WR-TIMEZONE:America/Kentucky/Louisville
BEGIN:VEVENT
UID:449@kyhumane.mediauradev.com
DTSTART;TZID=America/Kentucky/Louisville:20241005T110000
DTEND;TZID=America/Kentucky/Louisville:20241005T140000
DTSTAMP:20240909T193353Z
URL:https://kyhumane.mediauradev.com/events/pups-in-paristown-2/
SUMMARY:Pups in Paristown
DESCRIPTION:\n\nPups in Paristown RETURNS on Saturday\, October 5 from 11 a
 .m. - 2 p.m. at the Paristown Arts District! Join us for a tail-waggin' da
 y full of dog-friendly vendors\, complimentary 360-degree selfies\, delici
 ous food and cocktails\, prizes and MUCH more. The best part? Proceeds of 
 this pawsome event benefit the shelter pets of KHS!
ATTACH;FMTTYPE=image/jpeg:https://kyhumane.mediauradev.com/wp-content/uplo
 ads/2024/09/Pups-in-Paristown-2024.jpg
LOCATION:Paristown Art District\, 731 Brent St.\, Louisville\, KY\, 40204\,
  United States
X-APPLE-STRUCTURED-LOCATION;VALUE=URI;X-ADDRESS=731 Brent St.\, Louisville\
 , KY\, 40204\, United States;X-APPLE-RADIUS=100;X-TITLE=Paristown Art Dist
 rict:geo:0,0
END:VEVENT
BEGIN:VTIMEZONE
TZID:America/Kentucky/Louisville
X-LIC-LOCATION:America/Kentucky/Louisville
BEGIN:DAYLIGHT
DTSTART:20240310T030000
TZOFFSETFROM:-0500
TZOFFSETTO:-0400
TZNAME:EDT
END:DAYLIGHT
END:VTIMEZONE
END:VCALENDAR