BEGIN:VCALENDAR
VERSION:2.0
PRODID:-//wp-events-plugin.com//6.6.4.4//EN
TZID:America/Kentucky/Louisville
X-WR-TIMEZONE:America/Kentucky/Louisville
BEGIN:VEVENT
UID:537@kyhumane.mediauradev.com
DTSTART;TZID=America/Kentucky/Louisville:20250628T110000
DTEND;TZID=America/Kentucky/Louisville:20250628T140000
DTSTAMP:20250610T140911Z
URL:https://kyhumane.mediauradev.com/events/pups-on-the-patio-8/
SUMMARY:Pups on the Patio
DESCRIPTION:\n\nStop by Flanagan's Ale House on Saturday\, June 28th\, from
  11 a.m. - 2 p.m. and enjoy delicious puptails and puppy snuggles. KHS wil
 l be on site with adorable puppies and $1 from every specialty Tito's pupt
 ail sold goes back to KHS!
ATTACH;FMTTYPE=image/jpeg:https://kyhumane.mediauradev.com/wp-content/uplo
 ads/2025/06/54215303175_4a43fbb675_o-scaled.jpg
LOCATION:Flanagan's Ale House\,  934 Baxter Ave\, Louisville\, KY\, 40204\,
  United States
X-APPLE-STRUCTURED-LOCATION;VALUE=URI;X-ADDRESS= 934 Baxter Ave\, Louisvill
 e\, KY\, 40204\, United States;X-APPLE-RADIUS=100;X-TITLE=Flanagan's Ale H
 ouse:geo:0,0
END:VEVENT
BEGIN:VTIMEZONE
TZID:America/Kentucky/Louisville
X-LIC-LOCATION:America/Kentucky/Louisville
BEGIN:DAYLIGHT
DTSTART:20250309T030000
TZOFFSETFROM:-0500
TZOFFSETTO:-0400
TZNAME:EDT
END:DAYLIGHT
END:VTIMEZONE
END:VCALENDAR