BEGIN:VCALENDAR
VERSION:2.0
PRODID:-//wp-events-plugin.com//6.6.4.4//EN
TZID:America/Kentucky/Louisville
X-WR-TIMEZONE:America/Kentucky/Louisville
BEGIN:VEVENT
UID:515@kyhumane.mediauradev.com
DTSTART;TZID=America/Kentucky/Louisville:20250410T180000
DTEND;TZID=America/Kentucky/Louisville:20250410T203000
DTSTAMP:20250327T172658Z
URL:https://kyhumane.mediauradev.com/events/pups-pops/
SUMMARY:Pups & Pops
DESCRIPTION:\nSave the date! Join us on Thursday\, April 10th 6pm-8:30pm fo
 r Pups &amp\; Pops! Enjoy a free popsicle\, puppies\, and fun while we try
  to raise money to support the Kentucky Humane Society!\n\nPuppy Photo Boo
 th! Donate $5 and you will get a kawaii photo op with some adorable puppie
 s!\n\nFREE KARAOKE?! Yes! Donate $20 or more and receive a coupon for one 
 free karaoke room\, good for any date in 2025 (that’s more than half off
 )! We’ll only have 50 of these available on this day only! The puppy pho
 to op is also included in this donation!\n\nWe put the FUN in fundraising!
  This is a great opportunity to learn more about pet adoption\, resources\
 , and how to help the Kentucky Humane Society!
ATTACH;FMTTYPE=image/jpeg:https://kyhumane.mediauradev.com/wp-content/uplo
 ads/2025/03/Pups-and-Pops.jpg
LOCATION:Kawaii Candy & Karaoke\, 2612 Chamberlain Lane\, Louisville\, Kent
 ucky\, 40245\, United States
X-APPLE-STRUCTURED-LOCATION;VALUE=URI;X-ADDRESS=2612 Chamberlain Lane\, Lou
 isville\, Kentucky\, 40245\, United States;X-APPLE-RADIUS=100;X-TITLE=Kawa
 ii Candy & Karaoke:geo:0,0
END:VEVENT
BEGIN:VTIMEZONE
TZID:America/Kentucky/Louisville
X-LIC-LOCATION:America/Kentucky/Louisville
BEGIN:DAYLIGHT
DTSTART:20250309T030000
TZOFFSETFROM:-0500
TZOFFSETTO:-0400
TZNAME:EDT
END:DAYLIGHT
END:VTIMEZONE
END:VCALENDAR