BEGIN:VCALENDAR
VERSION:2.0
PRODID:-//wp-events-plugin.com//6.6.4.4//EN
TZID:America/Kentucky/Louisville
X-WR-TIMEZONE:America/Kentucky/Louisville
BEGIN:VEVENT
UID:554@kyhumane.mediauradev.com
DTSTART;TZID=America/Kentucky/Louisville:20250801T200000
DTEND;TZID=America/Kentucky/Louisville:20250801T230000
DTSTAMP:20250725T182154Z
URL:https://kyhumane.mediauradev.com/events/racing-louisville-down-the-str
 etch/
SUMMARY:Racing Louisville Down the Stretch
DESCRIPTION:\n\nRacing Louisville Down the Stretch: Join us on Friday\, A
 ugust 1 at Lynn Family Stadium for Racing Louisville's Down the Stretch g
 ame benefiting KHS' Equine C.A.R.E. program. When you purchase tickets thr
 ough this link\, proceeds come back to KHS to support our ongoing rescue
  and rehabilitation efforts for Kentucky horses. We can't wait to see you
  there!
ATTACH;FMTTYPE=image/jpeg:https://kyhumane.mediauradev.com/wp-content/uplo
 ads/2025/07/Lynn-Family-Stadium.jpg
LOCATION:Lynn Family Stadium\, 350 Adams St.\, Louisville\, KY\, 40206\, Un
 ited States
X-APPLE-STRUCTURED-LOCATION;VALUE=URI;X-ADDRESS=350 Adams St.\, Louisville\
 , KY\, 40206\, United States;X-APPLE-RADIUS=100;X-TITLE=Lynn Family Stadiu
 m:geo:0,0
END:VEVENT
BEGIN:VTIMEZONE
TZID:America/Kentucky/Louisville
X-LIC-LOCATION:America/Kentucky/Louisville
BEGIN:DAYLIGHT
DTSTART:20250309T030000
TZOFFSETFROM:-0500
TZOFFSETTO:-0400
TZNAME:EDT
END:DAYLIGHT
END:VTIMEZONE
END:VCALENDAR