BEGIN:VCALENDAR
VERSION:2.0
PRODID:-//wp-events-plugin.com//6.6.4.4//EN
TZID:America/Kentucky/Louisville
X-WR-TIMEZONE:America/Kentucky/Louisville
BEGIN:VEVENT
UID:437@kyhumane.mediauradev.com
DTSTART;TZID=America/Kentucky/Louisville:20240914T183000
DTEND;TZID=America/Kentucky/Louisville:20240914T204500
DTSTAMP:20240906T121620Z
URL:https://kyhumane.mediauradev.com/events/racing-louisville-pups-at-the-
 pitch-game-2/
SUMMARY:Racing Louisville Pups at the Pitch Game
DESCRIPTION:\n\nRacing Louisville FC is excited to host its Pups at the Pit
 ch game\, presented by Feeders Supply\, on Saturday\, September 14\, as th
 e club hosts Angel City FC! Gates open at 6:30 p.m. before kickoff at 7:30
  p.m.\n\nTickets for fans wishing to bring their dogs are on sale now with
  all proceeds to be donated to the Kentucky Humane Society. Flew the Coop\
 , a rescue nonprofit started by Louisville City and Racing Louisville co-o
 wner Chris Harding\, will match donations to the Kentucky Humane Society.\
 n\nThe first 1\,500 fans entering through the gates with their pups will a
 lso receive a complimentary Feeders Supply dog bandana!\n\nPurchase your t
 ickets here: https://pa.exchange/marketplace/2eaac89e-d898-11ed-a0be-4586e
 8bb609b/storefront/2edc6e08-d898-11ed-9521-7b67ae8f8697
ATTACH;FMTTYPE=image/jpeg:https://kyhumane.mediauradev.com/wp-content/uplo
 ads/2024/08/Pups-at-Pitch-RL-2-1.jpg
LOCATION:Lynn Family Stadium\, 350 Adams St.\, Louisville\, KY\, 40206\, Un
 ited States
X-APPLE-STRUCTURED-LOCATION;VALUE=URI;X-ADDRESS=350 Adams St.\, Louisville\
 , KY\, 40206\, United States;X-APPLE-RADIUS=100;X-TITLE=Lynn Family Stadiu
 m:geo:0,0
END:VEVENT
BEGIN:VTIMEZONE
TZID:America/Kentucky/Louisville
X-LIC-LOCATION:America/Kentucky/Louisville
BEGIN:DAYLIGHT
DTSTART:20240310T030000
TZOFFSETFROM:-0500
TZOFFSETTO:-0400
TZNAME:EDT
END:DAYLIGHT
END:VTIMEZONE
END:VCALENDAR