BEGIN:VCALENDAR
VERSION:2.0
PRODID:-//wp-events-plugin.com//6.6.4.4//EN
TZID:America/Kentucky/Louisville
X-WR-TIMEZONE:America/Kentucky/Louisville
BEGIN:VEVENT
UID:618@kyhumane.mediauradev.com
DTSTART;TZID=America/Kentucky/Louisville:20251213T180000
DTEND;TZID=America/Kentucky/Louisville:20251213T200000
DTSTAMP:20251203T192909Z
URL:https://kyhumane.mediauradev.com/events/rockin-around-the-village/
SUMMARY:Rockin' Around the Village
DESCRIPTION:\nFormerly called All is Bright\, we invite all to join us for 
 Rockin' Around the Village at Westport Village on Saturday\, December 13th
  from 6-8pm! *Thank you to our Presenting Sponsor\, Osteria Italian Seafoo
 d* Enjoy festive entertainment such as juggling and stilt walking along wi
 th balloon twisting\, face painting\, pop-up vendors\, a complimentary pho
 tobooth {sponsored by The Pet Station Country Club} and more! Plus\, there
  will be LIVE MUSIC with MaryMary from 6-8pm with Santa joining them on-st
 age around 7:30pm for a truly memorable experience followed by an opportun
 ity to get a selfie with Santa after! All glowstick proceeds will support 
 the lifesaving work at the Kentucky Humane Society.\n\nLearn more here.
ATTACH;FMTTYPE=image/jpeg:https://kyhumane.mediauradev.com/wp-content/uplo
 ads/2025/12/IGmedia_IG.jpg
LOCATION:Westport Village\, 1315 Herr Lane\, Louisville\, KY\, 40222\, Unit
 ed States
X-APPLE-STRUCTURED-LOCATION;VALUE=URI;X-ADDRESS=1315 Herr Lane\, Louisville
 \, KY\, 40222\, United States;X-APPLE-RADIUS=100;X-TITLE=Westport Village:
 geo:0,0
END:VEVENT
BEGIN:VTIMEZONE
TZID:America/Kentucky/Louisville
X-LIC-LOCATION:America/Kentucky/Louisville
BEGIN:STANDARD
DTSTART:20251102T010000
TZOFFSETFROM:-0400
TZOFFSETTO:-0500
TZNAME:EST
END:STANDARD
END:VTIMEZONE
END:VCALENDAR