BEGIN:VCALENDAR
VERSION:2.0
PRODID:-//wp-events-plugin.com//6.6.4.4//EN
TZID:America/Kentucky/Louisville
X-WR-TIMEZONE:America/Kentucky/Louisville
BEGIN:VEVENT
UID:516@kyhumane.mediauradev.com
DTSTART;TZID=America/Kentucky/Louisville:20250424T180000
DTEND;TZID=America/Kentucky/Louisville:20250424T200000
DTSTAMP:20250331T192022Z
URL:https://kyhumane.mediauradev.com/events/saving-kittens-workshop-by-kit
 ten-lady-hannah-shaw/
SUMMARY:Saving Kittens Workshop by Kitten Lady Hannah Shaw
DESCRIPTION:\n\nCome see Hannah Shaw\, a New York Times best-selling author
  and leading expert in kitten rescue and care\, on Thursday\, April 24th\,
  from 6-8 p.m. where she will share her wealth of knowledge and experience
  in a two-hour presentation. Attendees will gain invaluable insights into 
 kitten rescue\, learn life-saving care techniques\, and hear heartwarming 
 stories of kitten survival.\n\nThis event promises to be an inspiring even
 ing dedicated to saving the lives of the most vulnerable felines. Proceeds
  from ticket sales will benefit the Kentucky Humane Society. Click here to
  reserve your spot!
ATTACH;FMTTYPE=image/jpeg:https://kyhumane.mediauradev.com/wp-content/uplo
 ads/2025/03/Kitten-Lady-Promo.jpg
LOCATION:Pigment Gallery at Mellwood Art Center\, 1860 Mellwood Ave\, Louis
 ville\, Kentucky\, 40206\, United States
X-APPLE-STRUCTURED-LOCATION;VALUE=URI;X-ADDRESS=1860 Mellwood Ave\, Louisvi
 lle\, Kentucky\, 40206\, United States;X-APPLE-RADIUS=100;X-TITLE=Pigment 
 Gallery at Mellwood Art Center:geo:0,0
END:VEVENT
BEGIN:VTIMEZONE
TZID:America/Kentucky/Louisville
X-LIC-LOCATION:America/Kentucky/Louisville
BEGIN:DAYLIGHT
DTSTART:20250309T030000
TZOFFSETFROM:-0500
TZOFFSETTO:-0400
TZNAME:EDT
END:DAYLIGHT
END:VTIMEZONE
END:VCALENDAR