BEGIN:VCALENDAR
VERSION:2.0
PRODID:-//wp-events-plugin.com//6.6.4.4//EN
TZID:America/Kentucky/Louisville
X-WR-TIMEZONE:America/Kentucky/Louisville
BEGIN:VEVENT
UID:68@kyhumane.mediauradev.com
DTSTART;TZID=America/Kentucky/Louisville:20210910T000000
DTEND;TZID=America/Kentucky/Louisville:20210920T130000
DTSTAMP:20210910T140807Z
URL:https://kyhumane.mediauradev.com/events/share-your-love-story-event/
SUMMARY:Share Your Love Story
DESCRIPTION:\n\n\n\n\nPetco Love\, in partnership with BOBS from Skechers\
 , is celebrating the love we share for our adopted pets! By submitting the
 ir Love Story\, pet owners can help the shelters they adopted from win lif
 esaving funds. Finalists will receive a Petco shopping spree up to $1\,000
  and BOBS from Skechers shoes\, and the organization they adopted from wil
 l receive a grant award up to $100\,000!\n\n\n\nIf you’ve adopted a pet 
 from the Kentucky Humane Society\, submit your #PetcoLoveStory by 1 p.m. o
 n Wednesday\, Sept. 20!\n\n\n\nLove Stories should focus on the ways your 
 pet has changed your life for the better. Each submission is limited to 50
 0 words or less and must include four supporting photos:\n\n\n\nOne photo 
 of your pet alone.One photo of you or your family with your pet.Two additi
 onal photos that help illustrate your story.One optional video to showcase
  your Love Story!\n\n\n\nVisit&nbsp\;petcolove.org/lovestory&nbsp\;to lear
 n more — and read winning entries from prior years for inspiration. Reme
 mber\, winning stories will show how the love of your pet has changed YOUR
  life!\n
ATTACH;FMTTYPE=image/jpeg:https://kyhumane.mediauradev.com/wp-content/uplo
 ads/2021/09/petco-love-stories-sq.png
END:VEVENT
BEGIN:VTIMEZONE
TZID:America/Kentucky/Louisville
X-LIC-LOCATION:America/Kentucky/Louisville
BEGIN:DAYLIGHT
DTSTART:20210314T030000
TZOFFSETFROM:-0500
TZOFFSETTO:-0400
TZNAME:EDT
END:DAYLIGHT
END:VTIMEZONE
END:VCALENDAR