BEGIN:VCALENDAR
VERSION:2.0
PRODID:-//wp-events-plugin.com//6.6.4.4//EN
TZID:America/Kentucky/Louisville
X-WR-TIMEZONE:America/Kentucky/Louisville
BEGIN:VEVENT
UID:366@kyhumane.mediauradev.com
DTSTART;TZID=America/Kentucky/Louisville:20240317T110000
DTEND;TZID=America/Kentucky/Louisville:20240317T133000
DTSTAMP:20240308T220503Z
URL:https://kyhumane.mediauradev.com/events/st-paddys-playgroup/
SUMMARY:St. Paddy's Playgroup
DESCRIPTION:\nHave you been searching for four paws to add to your pack? Lu
 cky for you\, we have tons of AMAZING dog-social pups who want to show off
  their skills!\n\n\n\nJoin us on Sunday\, March 17 for a special ST. PADDY
 'S DAY PLAYGROUP at our Sam Swope Pet TLC (Main Campus). With different s
 tages for different canines\, you're sure to find a pawfect addition to yo
 ur family. You might even leave with a four-legged friend in tow! \n\n\n\
 nThis Playgroup "pawty" starts at 11 a.m. on Sunday\, March 17 - we can't 
 wait to see you there!\n\n\n\nRun of Show:11-11:30 a.m. - Rowdy Runners st
 age11:45 a.m. - 12:15 p.m. - Big Friends stage12:30-12:50 p.m. - Small Fri
 ends stage1-1:20 p.m. - Gentle and Dainty stage\n\n\n\n*PLEASE NOTE: Playg
 roups will feature adoptable shelter dogs in hopes of finding their fureve
 r homes. If you are interested in setting up a meet-and-greet with an adop
 table pup and your resident pets after the event\, our adoption counselors
  will be happy to assist! \n\n\n\n\n\n\n\nSee less\n
ATTACH;FMTTYPE=image/jpeg:https://kyhumane.mediauradev.com/wp-content/uplo
 ads/2024/03/StPaddysPlaygroupPawty_banner.png
LOCATION:Sam Swope Pet TLC (Main Campus)\, 241 Steedly Dr\, Louisville\, KY
 \, 40214\, United States
X-APPLE-STRUCTURED-LOCATION;VALUE=URI;X-ADDRESS=241 Steedly Dr\, Louisville
 \, KY\, 40214\, United States;X-APPLE-RADIUS=100;X-TITLE=Sam Swope Pet TLC
  (Main Campus):geo:0,0
END:VEVENT
BEGIN:VTIMEZONE
TZID:America/Kentucky/Louisville
X-LIC-LOCATION:America/Kentucky/Louisville
BEGIN:DAYLIGHT
DTSTART:20240310T030000
TZOFFSETFROM:-0500
TZOFFSETTO:-0400
TZNAME:EDT
END:DAYLIGHT
END:VTIMEZONE
END:VCALENDAR