BEGIN:VCALENDAR
VERSION:2.0
PRODID:-//wp-events-plugin.com//6.6.4.4//EN
TZID:America/Kentucky/Louisville
X-WR-TIMEZONE:America/Kentucky/Louisville
BEGIN:VEVENT
UID:12@kyhumane.mediauradev.com
DTSTART:20210612T111500Z
DTEND:20210612T120000Z
DTSTAMP:20220617T142722Z
URL:https://kyhumane.mediauradev.com/events/teenage-puppies-cost-75-00/
SUMMARY:Teenage Puppy Social\, age 4-6 months. Instructor: Sue. Length: 3 w
 eeks. Cost: $75.00
DESCRIPTION:This playgroup is for puppies aged 8-15 weeks. Raise your puppy
  right!\nCategories: Behavior Training\, Manners For Life \nTags: behavior
  training\, dogs\, puppies
ATTACH;FMTTYPE=image/jpeg:https://kyhumane.mediauradev.com/wp-content/uplo
 ads/2021/05/51420223820_86dfdd99d3_c.jpg
CATEGORIES:Behavior Training
LOCATION:Kentucky Humane Society Sam Swope Behavior Retreat\, 5007 Max Ridg
 e Ct.\, Louisville\, KY 40299\, Louisville\, Ky\, 40299\, United States
X-APPLE-STRUCTURED-LOCATION;VALUE=URI;X-ADDRESS=5007 Max Ridge Ct.\, Louisv
 ille\, KY 40299\, Louisville\, Ky\, 40299\, United States;X-APPLE-RADIUS=1
 00;X-TITLE=Kentucky Humane Society Sam Swope Behavior Retreat:geo:0,0
END:VEVENT
END:VCALENDAR