BEGIN:VCALENDAR
VERSION:2.0
PRODID:-//wp-events-plugin.com//6.6.4.4//EN
TZID:America/Kentucky/Louisville
X-WR-TIMEZONE:America/Kentucky/Louisville
BEGIN:VEVENT
UID:17@kyhumane.mediauradev.com
DTSTART:20210622T191500Z
DTEND:20210622T200000Z
DTSTAMP:20220617T143257Z
URL:https://kyhumane.mediauradev.com/events/teenage-puppy-social-age-4-6-m
 onths-instructor-katy-length-3-weeks-cost-75-00/
SUMMARY:Teenage Puppy Social\, age 4-6 months. Instructor: Katy. Length: 3 
 weeks. Cost: $75.00
DESCRIPTION:This playgroup is for young dogs aged 4-6 months.\nCategories: 
 Behavior Training\, Positively Puppies Tags: featured
ATTACH;FMTTYPE=image/jpeg:https://kyhumane.mediauradev.com/wp-content/uplo
 ads/2021/05/3.jpg
CATEGORIES:Behavior Training,Positively Puppies
LOCATION:Kentucky Humane Society Sam Swope Behavior Retreat\, 5007 Max Ridg
 e Ct.\, Louisville\, KY 40299\, Louisville\, Ky\, 40299\, United States
X-APPLE-STRUCTURED-LOCATION;VALUE=URI;X-ADDRESS=5007 Max Ridge Ct.\, Louisv
 ille\, KY 40299\, Louisville\, Ky\, 40299\, United States;X-APPLE-RADIUS=1
 00;X-TITLE=Kentucky Humane Society Sam Swope Behavior Retreat:geo:0,0
END:VEVENT
END:VCALENDAR