BEGIN:VCALENDAR
VERSION:2.0
PRODID:-//wp-events-plugin.com//6.6.4.4//EN
TZID:America/Kentucky/Louisville
X-WR-TIMEZONE:America/Kentucky/Louisville
BEGIN:VEVENT
UID:351@kyhumane.mediauradev.com
DTSTART:20240317T151500Z
DTEND:20240317T160000Z
DTSTAMP:20240313T180644Z
URL:https://kyhumane.mediauradev.com/events/teenage-puppy-social-puppies-4
 -6-months-03172024/
SUMMARY:Teenage Puppy Social\, puppies 4-6 months
DESCRIPTION:3 weeks (*No class Easter Sunday\, 3/31)\nSundays\, 3:15 - 4:00
  pm\nInstructor: Cherie\n$75 +tax\n\nSocialization in our puppy's early ad
 olescence can be hard to come by. Join us for our teenage puppy playgroup 
 to help your pup stay socially savvy. \n*Puppies must be 6 months or under
  for all three weeks of class.
ATTACH;FMTTYPE=image/jpeg:https://kyhumane.mediauradev.com/wp-content/uplo
 ads/2021/06/51162413518_6ef2820b62_w-e1710353195528.jpg
CATEGORIES:Behavior Training,Positively Puppies
LOCATION:Kentucky Humane Society East Campus\, 1000 Lyndon Lane\, Louisvill
 e\, KY \, 40222\, United States
X-APPLE-STRUCTURED-LOCATION;VALUE=URI;X-ADDRESS=1000 Lyndon Lane\, Louisvil
 le\, KY \, 40222\, United States;X-APPLE-RADIUS=100;X-TITLE=Kentucky Human
 e Society East Campus:geo:0,0
END:VEVENT
END:VCALENDAR