BEGIN:VCALENDAR
VERSION:2.0
PRODID:-//wp-events-plugin.com//6.6.4.4//EN
TZID:America/Kentucky/Louisville
X-WR-TIMEZONE:America/Kentucky/Louisville
BEGIN:VEVENT
UID:398@kyhumane.mediauradev.com
DTSTART:20240623T140000Z
DTEND:20240623T144500Z
DTSTAMP:20240617T191412Z
URL:https://kyhumane.mediauradev.com/events/teenage-puppy-social-puppies-4
 -6-months-06092024/
SUMMARY:Teenage Puppy Social\, puppies 4-6 months
DESCRIPTION:1 week\nSunday\, 2:00 - 2:45 pm\nInstructor: Abby\n$25 +tax\n\n
 Socialization in our puppy's early adolescence can be hard to come by. Joi
 n us for our teenage puppy playgroup to help your pup stay socially savvy.
  \n*Puppies must be 6 months or under for all three weeks of class.
ATTACH;FMTTYPE=image/jpeg:https://kyhumane.mediauradev.com/wp-content/uplo
 ads/2021/06/51162413518_6ef2820b62_w-e1710353195528.jpg
CATEGORIES:Behavior Training,Positively Puppies
LOCATION:Sam Swope Pet TLC (Main Campus)\, 241 Steedly Dr\, Louisville\, KY
 \, 40214\, United States
X-APPLE-STRUCTURED-LOCATION;VALUE=URI;X-ADDRESS=241 Steedly Dr\, Louisville
 \, KY\, 40214\, United States;X-APPLE-RADIUS=100;X-TITLE=Sam Swope Pet TLC
  (Main Campus):geo:0,0
END:VEVENT
END:VCALENDAR