BEGIN:VCALENDAR
VERSION:2.0
PRODID:-//wp-events-plugin.com//6.6.4.4//EN
TZID:America/Kentucky/Louisville
X-WR-TIMEZONE:America/Kentucky/Louisville
BEGIN:VEVENT
UID:335@kyhumane.mediauradev.com
DTSTART:20231108T180000Z
DTEND:20231108T184500Z
DTSTAMP:20231107T185302Z
URL:https://kyhumane.mediauradev.com/events/teenage-puppy-social-puppies-4
 -6-months-11082023/
SUMMARY:Teenage Puppy Social\, puppies 4-6 months
DESCRIPTION:3 weeks\nWednesdays\, 6:00 - 6:45 pm\n$75 +tax\n\nSocialization
  in our puppy's early adolescence can be hard to come by. Join us for our 
 teenage puppy playgroup to help your pup stay socially savvy. \n*Puppies m
 ust be 6 months or under for all three weeks of class.
CATEGORIES:Behavior Training,Positively Puppies
LOCATION:Kentucky Humane Society East Campus\, 1000 Lyndon Lane\, Louisvill
 e\, KY \, 40222\, United States
X-APPLE-STRUCTURED-LOCATION;VALUE=URI;X-ADDRESS=1000 Lyndon Lane\, Louisvil
 le\, KY \, 40222\, United States;X-APPLE-RADIUS=100;X-TITLE=Kentucky Human
 e Society East Campus:geo:0,0
END:VEVENT
END:VCALENDAR