BEGIN:VCALENDAR
VERSION:2.0
PRODID:-//wp-events-plugin.com//6.6.4.4//EN
TZID:America/Kentucky/Louisville
X-WR-TIMEZONE:America/Kentucky/Louisville
BEGIN:VEVENT
UID:498@kyhumane.mediauradev.com
DTSTART:20250329T161500Z
DTEND:20250412T170000Z
DTSTAMP:20250321T140308Z
URL:https://kyhumane.mediauradev.com/events/teenage-puppy-social-puppies-4
 -6-months-2/
SUMMARY:Teenage Puppy Social\, puppies 4-6 months
DESCRIPTION:**CLASS FULL**\n3 weeks\nSundays\, 4:15 - 5:00 pm\nInstructor: 
 Jordan\n$75 +tax\n\nSocialization in our puppy's early adolescence can be 
 hard to come by. Join us for our teenage puppy playgroup to help your pup 
 stay socially savvy. \n*Puppies must be 6 months or under for all three we
 eks of class.
CATEGORIES:Behavior Training,Positively Puppies
LOCATION:Kentucky Humane Society East Campus\, 1000 Lyndon Lane\, Louisvill
 e\, KY \, 40222\, United States
X-APPLE-STRUCTURED-LOCATION;VALUE=URI;X-ADDRESS=1000 Lyndon Lane\, Louisvil
 le\, KY \, 40222\, United States;X-APPLE-RADIUS=100;X-TITLE=Kentucky Human
 e Society East Campus:geo:0,0
END:VEVENT
END:VCALENDAR