BEGIN:VCALENDAR
VERSION:2.0
PRODID:-//wp-events-plugin.com//6.6.4.4//EN
TZID:America/Kentucky/Louisville
X-WR-TIMEZONE:America/Kentucky/Louisville
BEGIN:VEVENT
UID:579@kyhumane.mediauradev.com
DTSTART:20251207T121500Z
DTEND:20251228T130000Z
DTSTAMP:20251215T141513Z
URL:https://kyhumane.mediauradev.com/events/teenage-puppy-social-puppies-4
 -6-months-7/
SUMMARY:Teenage Puppy Play Group\, puppies 4-6 months
DESCRIPTION:3 weeks\nSundays\, 12:15 - 1:00 pm\n\nInstructor: Cherie / Meli
 ssa\n$75 +tax\n\nSocialization in our puppy's early adolescence can be har
 d to come by. Join us for our teenage puppy playgroup to help your pup sta
 y socially savvy. \n*Puppies must be 6 months or under for all three weeks
  of class.
ATTACH;FMTTYPE=image/jpeg:https://kyhumane.mediauradev.com/wp-content/uplo
 ads/2023/11/46360879811_114d0a66f0_c.jpg
CATEGORIES:Behavior Training,Positively Puppies
LOCATION:Kentucky Humane Society East Campus\, 1000 Lyndon Lane\, Louisvill
 e\, KY \, 40222\, United States
X-APPLE-STRUCTURED-LOCATION;VALUE=URI;X-ADDRESS=1000 Lyndon Lane\, Louisvil
 le\, KY \, 40222\, United States;X-APPLE-RADIUS=100;X-TITLE=Kentucky Human
 e Society East Campus:geo:0,0
END:VEVENT
END:VCALENDAR