BEGIN:VCALENDAR
VERSION:2.0
PRODID:-//wp-events-plugin.com//6.6.4.4//EN
TZID:America/Kentucky/Louisville
X-WR-TIMEZONE:America/Kentucky/Louisville
BEGIN:VEVENT
UID:377@kyhumane.mediauradev.com
DTSTART:20240414T140000Z
DTEND:20240414T150000Z
DTSTAMP:20240322T232521Z
URL:https://kyhumane.mediauradev.com/events/tricks-for-treats-dogs-4-month
 s-and-older-04142024/
SUMMARY:Tricks for Treats\, dogs 4 months and older
DESCRIPTION:6 weeks\nSundays\, 2:00 - 3:00 pm\nInstructor: Abby\n$120 +tax\
 n\nHave fun with your dog\, improve your training skills\, and show off to
  your friends! Join us to learn tricks like spin\, roll over\, and how to 
 shake hands.
ATTACH;FMTTYPE=image/jpeg:https://kyhumane.mediauradev.com/wp-content/uplo
 ads/2024/03/52991871253_c2b0c6693d_c-e1710352707129.jpg
CATEGORIES:Behavior Training,Positively Puppies
LOCATION:Sam Swope Pet TLC (Main Campus)\, 241 Steedly Dr\, Louisville\, KY
 \, 40214\, United States
X-APPLE-STRUCTURED-LOCATION;VALUE=URI;X-ADDRESS=241 Steedly Dr\, Louisville
 \, KY\, 40214\, United States;X-APPLE-RADIUS=100;X-TITLE=Sam Swope Pet TLC
  (Main Campus):geo:0,0
END:VEVENT
END:VCALENDAR