BEGIN:VCALENDAR
VERSION:2.0
PRODID:-//wp-events-plugin.com//6.6.4.4//EN
TZID:America/Kentucky/Louisville
X-WR-TIMEZONE:America/Kentucky/Louisville
BEGIN:VEVENT
UID:457@kyhumane.mediauradev.com
DTSTART;TZID=America/Kentucky/Louisville:20241019T150000
DTEND;TZID=America/Kentucky/Louisville:20241019T190000
DTSTAMP:20240924T160853Z
URL:https://kyhumane.mediauradev.com/events/trot-or-treat-with-willow-hope
 -farm/
SUMMARY:Trot or Treat with Willow Hope Farm
DESCRIPTION:\n\n\nJoin us for Trot or Treat on Saturday\, October 19 from 3
 :00 – 7:00 p.m. at the Kentucky Humane Society’s Willow Hope Farm. Bri
 ng your family and show off your best costumes\, while you enjoy trick or 
 treating\, games\, crafts\, hayrides\, a bonfire with s’mores\, and more
 ! You’ll also have a chance to go on a tour and meet some of our adoptab
 le horses at Willow Hope Farm.\n\nEntry for the event is $25 per car. Park
 ing is limited\, so carpooling is appreciated – and the best bang for yo
 ur buck. Guests will be divided into two groups for a more personal one-on
 -one experience.\n\nGroup A – Arrive around 2:30 p.m. Barn Tour &amp\; D
 emonstrations start @ 3:00 p.m.\nGroup B – Arrive around 4:30 p.m. Barn 
 Tour &amp\; Demonstrations start @ 5:00 p.m.\n\nTrot on over for a day ful
 l of fab-boo-lous activities for the whole family! Learn more at https://
 kyhumane.mediauradev.com/equine/trot-or-treat/\nSpecial thanks to our Trot
  or Treat Sponsor\, Grabhorn Law Insured Rights
ATTACH;FMTTYPE=image/jpeg:https://kyhumane.mediauradev.com/wp-content/uplo
 ads/2024/09/Option-1-1.jpg
LOCATION:KHS Willow Hope Farm\, 4416 Todds Point Road\, Simpsonville\, KY\,
  40067\, United States
X-APPLE-STRUCTURED-LOCATION;VALUE=URI;X-ADDRESS=4416 Todds Point Road\, Sim
 psonville\, KY\, 40067\, United States;X-APPLE-RADIUS=100;X-TITLE=KHS Will
 ow Hope Farm:geo:0,0
END:VEVENT
BEGIN:VTIMEZONE
TZID:America/Kentucky/Louisville
X-LIC-LOCATION:America/Kentucky/Louisville
BEGIN:DAYLIGHT
DTSTART:20240310T030000
TZOFFSETFROM:-0500
TZOFFSETTO:-0400
TZNAME:EDT
END:DAYLIGHT
END:VTIMEZONE
END:VCALENDAR