BEGIN:VCALENDAR
VERSION:2.0
PRODID:-//wp-events-plugin.com//6.6.4.4//EN
TZID:America/Kentucky/Louisville
X-WR-TIMEZONE:America/Kentucky/Louisville
BEGIN:VEVENT
UID:100@kyhumane.mediauradev.com
DTSTART;TZID=America/Kentucky/Louisville;VALUE=DATE:20211217
DTEND;TZID=America/Kentucky/Louisville;VALUE=DATE:20211231
DTSTAMP:20211220T193233Z
URL:https://kyhumane.mediauradev.com/events/united-we-stand-t-shirts-help-
 pets/
SUMMARY:United We Stand T-shirts Help Pets
DESCRIPTION:\n\n\n\n\nOrder by December 30\, 2021:\n\n\n\n"United We Stand"
  T-shirts\, tote bags and mugs honor those affected by the natural disaste
 r that struck the Southeast and Midwest. \n\n\n\nTeddy the Dog will be don
 ating 100% of the profits from this collection to the Kentucky Humane Soci
 ety to help the furry friends and their families who may have ended up hom
 eless due to the tornadoes. Together\, we can aid them in providing for a 
 likely influx of pets\, and help them provide pet food to families so they
  don't have to surrender their animals.\n\n\n\nOrder by December 30\, 2021
 \n\n\n\nTeddy the Dog apparel uses the finest garment-dyed\, ring-spun ble
 nded cotton\, which makes the apparel softer than a puppy’s backside. An
 d all apparel is tagless (read: itch free) and decorated right here in the
  U.S.A\n\n\n\n\n\n\n\nTeddy the Dog's Disaster Relief\n\n\n\nHurricanes\, 
 wildfires\, floods…there’s unfortunately no shortage of disasters impa
 cting people and animals. When these events happen\, Teddy the Dog produce
 s a&nbsp\;graphic and donates 100% of profits to certified relief funds. R
 ecent donations include Australia's Warriors (for the Australia wildfires)
 \, Hurricane Dorian\, and many more.\n
ATTACH;FMTTYPE=image/jpeg:https://kyhumane.mediauradev.com/wp-content/uplo
 ads/2021/12/17098-United-We-Stand-3507-chill-B.jpg
END:VEVENT
BEGIN:VTIMEZONE
TZID:America/Kentucky/Louisville
X-LIC-LOCATION:America/Kentucky/Louisville
BEGIN:STANDARD
DTSTART:20211107T010000
TZOFFSETFROM:-0400
TZOFFSETTO:-0500
TZNAME:EST
END:STANDARD
END:VTIMEZONE
END:VCALENDAR