BEGIN:VCALENDAR
VERSION:2.0
PRODID:-//wp-events-plugin.com//6.6.4.4//EN
TZID:America/Kentucky/Louisville
X-WR-TIMEZONE:America/Kentucky/Louisville
BEGIN:VEVENT
UID:109@kyhumane.mediauradev.com
DTSTART;TZID=America/Kentucky/Louisville:20220213T140000
DTEND;TZID=America/Kentucky/Louisville:20220213T163000
DTSTAMP:20220208T140043Z
URL:https://kyhumane.mediauradev.com/events/valentines-meet-and-greet-with
 -ethan/
SUMMARY:Valentine's Meet-and-Greet with Ethan
DESCRIPTION:Purrfect Day Cat Cafe Louisville (PDC) is having a Valentine's 
 Meet-and-Greet with Ethan on Sunday\, February 13 from 2 p.m. to 4:30 p.m
ATTACH;FMTTYPE=image/jpeg:https://kyhumane.mediauradev.com/wp-content/uplo
 ads/2022/02/50923582902_afeeab5856_c.jpg
END:VEVENT
BEGIN:VTIMEZONE
TZID:America/Kentucky/Louisville
X-LIC-LOCATION:America/Kentucky/Louisville
BEGIN:STANDARD
DTSTART:20211107T010000
TZOFFSETFROM:-0400
TZOFFSETTO:-0500
TZNAME:EST
END:STANDARD
END:VTIMEZONE
END:VCALENDAR