BEGIN:VCALENDAR
VERSION:2.0
PRODID:-//wp-events-plugin.com//6.6.4.4//EN
TZID:America/Kentucky/Louisville
X-WR-TIMEZONE:America/Kentucky/Louisville
BEGIN:VEVENT
UID:604@kyhumane.mediauradev.com
DTSTART;TZID=America/Kentucky/Louisville:20251209T083000
DTEND;TZID=America/Kentucky/Louisville:20251209T093000
DTSTAMP:20251024T152441Z
URL:https://kyhumane.mediauradev.com/events/virtual-coffee-chat-a-vision-f
 or-our-future/
SUMMARY:Virtual Coffee & Chat - A Vision for Our Future
DESCRIPTION:\n\nGrab a cup of coffee and join us online during your lunch b
 reak for a special virtual presentation from Alisa Gray\, President &amp\;
  CEO of the Kentucky Humane Society. Alisa will share our vision for the f
 uture of animal welfare in Kentucky and how you can help create a more com
 passionate community for pets and the people who love them.\n\nWhile we wo
 n’t be doing a behind-the-scenes tour virtually\, we’ll still bring yo
 u inspiring stories and a look at the incredible work happening every day 
 at our Sam Swope Pet Treatment &amp\; Lifesaving Center.\n\nSo settle in w
 ith your coffee and your laptop—we can’t wait to connect with you! Lea
 rn more here.
ATTACH;FMTTYPE=image/jpeg:https://kyhumane.mediauradev.com/wp-content/uplo
 ads/2025/10/54796699684_1ba67a0313_k.jpg
LOCATION:https://www.eventbrite.co.uk/e/virtual-coffee-chat-a-vision-for-ou
 r-future-tickets-1858952199069?aff=ebdsoporgprofile&keep_tld=1
END:VEVENT
BEGIN:VTIMEZONE
TZID:America/Kentucky/Louisville
X-LIC-LOCATION:America/Kentucky/Louisville
BEGIN:STANDARD
DTSTART:20251102T010000
TZOFFSETFROM:-0400
TZOFFSETTO:-0500
TZNAME:EST
END:STANDARD
END:VTIMEZONE
END:VCALENDAR