BEGIN:VCALENDAR
VERSION:2.0
PRODID:-//wp-events-plugin.com//6.6.4.4//EN
TZID:America/Kentucky/Louisville
X-WR-TIMEZONE:America/Kentucky/Louisville
BEGIN:VEVENT
UID:605@kyhumane.mediauradev.com
DTSTART;TZID=America/Kentucky/Louisville:20251211T113000
DTEND;TZID=America/Kentucky/Louisville:20251211T123000
DTSTAMP:20251024T152806Z
URL:https://kyhumane.mediauradev.com/events/virtual-lunch-learn-a-vision-f
 or-our-future/
SUMMARY:Virtual Lunch & Learn - A Vision for Our Future
DESCRIPTION:\n\nGrab a bite to eat and join us online during your lunch bre
 ak for a special virtual presentation from Alisa Gray\, President &amp\; C
 EO of the Kentucky Humane Society. Alisa will share our vision for the fut
 ure of animal welfare in Kentucky and how you can help create a more compa
 ssionate community for pets and the people who love them.\n\nWhile we won
 ’t be doing a behind-the-scenes tour virtually\, we’ll still bring you
  inspiring stories and a look at the incredible work happening every day a
 t our Sam Swope Pet Treatment &amp\; Lifesaving Center.\n\nSo settle in wi
 th your lunch and your laptop—we can’t wait to connect with you! Learn
  more here.
ATTACH;FMTTYPE=image/jpeg:https://kyhumane.mediauradev.com/wp-content/uplo
 ads/2025/10/54796699684_1ba67a0313_k.jpg
LOCATION:https://www.eventbrite.co.uk/e/virtual-lunch-learn-a-vision-for-ou
 r-future-tickets-1858758319169?aff=ebdsoporgprofile&keep_tld=1
END:VEVENT
BEGIN:VTIMEZONE
TZID:America/Kentucky/Louisville
X-LIC-LOCATION:America/Kentucky/Louisville
BEGIN:STANDARD
DTSTART:20251102T010000
TZOFFSETFROM:-0400
TZOFFSETTO:-0500
TZNAME:EST
END:STANDARD
END:VTIMEZONE
END:VCALENDAR